BEGIN:VCALENDAR
VERSION:2.0
PRODID:-//Kvikne.no - ECPv6.15.20//NONSGML v1.0//EN
CALSCALE:GREGORIAN
METHOD:PUBLISH
X-ORIGINAL-URL:https://kvikne.no
X-WR-CALDESC:Arrangement for Kvikne.no
REFRESH-INTERVAL;VALUE=DURATION:PT1H
X-Robots-Tag:noindex
X-PUBLISHED-TTL:PT1H
BEGIN:VTIMEZONE
TZID:Europe/Oslo
BEGIN:DAYLIGHT
TZOFFSETFROM:+0100
TZOFFSETTO:+0200
TZNAME:CEST
DTSTART:20200329T010000
END:DAYLIGHT
BEGIN:STANDARD
TZOFFSETFROM:+0200
TZOFFSETTO:+0100
TZNAME:CET
DTSTART:20201025T010000
END:STANDARD
BEGIN:DAYLIGHT
TZOFFSETFROM:+0100
TZOFFSETTO:+0200
TZNAME:CEST
DTSTART:20210328T010000
END:DAYLIGHT
BEGIN:STANDARD
TZOFFSETFROM:+0200
TZOFFSETTO:+0100
TZNAME:CET
DTSTART:20211031T010000
END:STANDARD
BEGIN:DAYLIGHT
TZOFFSETFROM:+0100
TZOFFSETTO:+0200
TZNAME:CEST
DTSTART:20220327T010000
END:DAYLIGHT
BEGIN:STANDARD
TZOFFSETFROM:+0200
TZOFFSETTO:+0100
TZNAME:CET
DTSTART:20221030T010000
END:STANDARD
BEGIN:DAYLIGHT
TZOFFSETFROM:+0100
TZOFFSETTO:+0200
TZNAME:CEST
DTSTART:20230326T010000
END:DAYLIGHT
BEGIN:STANDARD
TZOFFSETFROM:+0200
TZOFFSETTO:+0100
TZNAME:CET
DTSTART:20231029T010000
END:STANDARD
END:VTIMEZONE
BEGIN:VEVENT
DTSTART;TZID=Europe/Oslo:20220612T193000
DTEND;TZID=Europe/Oslo:20220612T193000
DTSTAMP:20260421T174148
CREATED:20220529T081900Z
LAST-MODIFIED:20220529T081900Z
UID:10000341-1655062200-1655062200@kvikne.no
SUMMARY:KONSERT ROAR ENGELBERG
DESCRIPTION:Roar Engelberg er Norges ledende panfløytist. Han har gitt ut 13 soloalbum og har samarbeidet med artister som Sondre Bratland\, Anita Skorgan og Elisabeth Andreasson. Han er kjent fra opptredener på TV og radio\, og har holdt konserter i en mengde land. Og nå kommer han altså til Kvikne. \nKvikne Samfunnshus søndag 12. juni Kl 19.30 \nInngang Kr 200\,-   Gratis for de under 15 år \nKaffe og kaker på billetten \nArr: Pensjonistforbundet Kvikne
URL:https://kvikne.no/arrangement/konsert-roar-engelberg/
LOCATION:Kvikne Samfunnshus\, Kvikneveien 4716\, Kvikne\, 2512
CATEGORIES:Pensjonistforbundet Kvikne
ATTACH;FMTTYPE=image/jpeg:https://kvikne.no/wp-content/uploads/2022/05/Engleberg.jpg
END:VEVENT
BEGIN:VEVENT
DTSTART;TZID=Europe/Oslo:20220414T190000
DTEND;TZID=Europe/Oslo:20220414T190000
DTSTAMP:20260421T174148
CREATED:20220410T083211Z
LAST-MODIFIED:20220410T083800Z
UID:10000326-1649962800-1649962800@kvikne.no
SUMMARY:Quiz Samfunnshuset
DESCRIPTION:Tradisjons tro blir det quiz i samfunnshuset skjærtorsdag.\nDørne åpner kl 19:00. Med salg av forfriskninger.\nQuizmaster Siri Beate Fossum entrer scenen kl 20:00\n6 stk pr.lag\n100 kr pr person\nI pausen blir det underholdning av lokale aktører\nPremiering til de 3 beste lagene.\nPåmelding av lag kan gjøres på forhånd til 91145578\nVelkommen!
URL:https://kvikne.no/arrangement/quiz-samfunnshuset/
LOCATION:Kvikne Samfunnshus\, Kvikneveien 4716\, Kvikne\, 2512
CATEGORIES:Kultur,Samfunnshus
ATTACH;FMTTYPE=image/jpeg:https://kvikne.no/wp-content/uploads/2020/11/Samfunnshuset_lite.jpg
END:VEVENT
BEGIN:VEVENT
DTSTART;TZID=Europe/Oslo:20220410T180000
DTEND;TZID=Europe/Oslo:20220410T220000
DTSTAMP:20260421T174148
CREATED:20220314T192032Z
LAST-MODIFIED:20220410T085204Z
UID:10000312-1649613600-1649628000@kvikne.no
SUMMARY:Maskorama
DESCRIPTION:
URL:https://kvikne.no/arrangement/maskorama/
LOCATION:Kvikne Samfunnshus\, Kvikneveien 4716\, Kvikne\, 2512
CATEGORIES:Skolemusikk
ATTACH;FMTTYPE=image/bmp:https://kvikne.no/wp-content/uploads/2020/11/ksm-fane.bmp
END:VEVENT
BEGIN:VEVENT
DTSTART;TZID=Europe/Oslo:20220319T210000
DTEND;TZID=Europe/Oslo:20220319T210000
DTSTAMP:20260421T174148
CREATED:20220226T105952Z
LAST-MODIFIED:20220309T202755Z
UID:10000308-1647723600-1647723600@kvikne.no
SUMMARY:Fest med Kviknegutta
DESCRIPTION:
URL:https://kvikne.no/arrangement/fest-med-kviknegutta/
LOCATION:Kvikne Samfunnshus\, Kvikneveien 4716\, Kvikne\, 2512
CATEGORIES:Kultur,Samfunnshus
ATTACH;FMTTYPE=image/jpeg:https://kvikne.no/wp-content/uploads/2022/02/Kviknegutta-fest-scaled.jpg
END:VEVENT
BEGIN:VEVENT
DTSTART;TZID=Europe/Oslo:20220313T190000
DTEND;TZID=Europe/Oslo:20220313T220000
DTSTAMP:20260421T174148
CREATED:20220304T101058Z
LAST-MODIFIED:20220304T101058Z
UID:10000310-1647198000-1647208800@kvikne.no
SUMMARY:Winter Games 2022
DESCRIPTION:
URL:https://kvikne.no/arrangement/winter-games-2022/
LOCATION:Kvikne Samfunnshus\, Kvikneveien 4716\, Kvikne\, 2512
CATEGORIES:Kvikne Hornmusikk
ATTACH;FMTTYPE=image/jpeg:https://kvikne.no/wp-content/uploads/2022/03/Logo-konsert-mars-22.jpg
ORGANIZER;CN="Kvikne Hornmusikk":MAILTO:kvikne-hornmusikk@g-mail.com
END:VEVENT
BEGIN:VEVENT
DTSTART;TZID=Europe/Oslo:20220223T200000
DTEND;TZID=Europe/Oslo:20220223T200000
DTSTAMP:20260421T174148
CREATED:20220123T191911Z
LAST-MODIFIED:20220123T191911Z
UID:10000292-1645646400-1645646400@kvikne.no
SUMMARY:Årsmøte i Kvikne Samfunnshus
DESCRIPTION:Årsmøte avholdes onsdag 23 februar i samfunnshuset kl. 20:00.\nGodkjenning av innkalling\nÅrsmelding.\nRevidert regnskap.\nValg.\nSaker som styret legger fram.\nInnkomnesaker.\nBudsjett.\nGodtgjørelse. \nFrasigelse av verv sendes leder i valgkomiteen Annemette Bekken innen 9 februar 2022. Saker som ønskes tatt opp sendes styret i samfunnshuset v/Oddveig Fossum innen 15 februar 2022. \nVel møtt
URL:https://kvikne.no/arrangement/arsmote-i-kvikne-samfunnshus/
LOCATION:Kvikne Samfunnshus\, Kvikneveien 4716\, Kvikne\, 2512
CATEGORIES:Årsmøte,Samfunnshus
ATTACH;FMTTYPE=image/jpeg:https://kvikne.no/wp-content/uploads/2020/11/SamfunnshusetDSCF6883-e1607347683311.jpg
END:VEVENT
BEGIN:VEVENT
DTSTART;VALUE=DATE:20220209
DTEND;VALUE=DATE:20220211
DTSTAMP:20260421T174148
CREATED:20220105T132610Z
LAST-MODIFIED:20220105T143707Z
UID:10000147-1644379200-1644465599@kvikne.no
SUMMARY:Årsmøte i Kvikne Songlag
DESCRIPTION:Mere info kommer…
URL:https://kvikne.no/arrangement/arsmote-i-kvikne-songlag-2/
LOCATION:Kvikne Samfunnshus\, Kvikneveien 4716\, Kvikne\, 2512
CATEGORIES:Årsmøte,Kvikne Songlag,Samfunnshus
ATTACH;FMTTYPE=image/jpeg:https://kvikne.no/wp-content/uploads/2020/12/11536070_406444246218146_2923543083604163550_n.jpg
END:VEVENT
BEGIN:VEVENT
DTSTART;TZID=Europe/Oslo:20220205T180000
DTEND;TZID=Europe/Oslo:20220205T180000
DTSTAMP:20260421T174148
CREATED:20220105T132248Z
LAST-MODIFIED:20220131T214711Z
UID:10000145-1644084000-1644084000@kvikne.no
SUMMARY:Konsert med Vang AVLYST/UTSATT!
DESCRIPTION:
URL:https://kvikne.no/arrangement/konsert-med-vang/
LOCATION:Kvikne Samfunnshus\, Kvikneveien 4716\, Kvikne\, 2512
CATEGORIES:Kvikne Songlag,Samfunnshus
ATTACH;FMTTYPE=image/jpeg:https://kvikne.no/wp-content/uploads/2020/12/11536070_406444246218146_2923543083604163550_n.jpg
END:VEVENT
BEGIN:VEVENT
DTSTART;TZID=Europe/Oslo:20211229T120000
DTEND;TZID=Europe/Oslo:20211229T150000
DTSTAMP:20260421T174148
CREATED:20211213T124605Z
LAST-MODIFIED:20211213T124605Z
UID:10000250-1640779200-1640790000@kvikne.no
SUMMARY:AVLYST!! Juletrefest
DESCRIPTION:Det er med tunge julehjerter vi meddeler at årets juletrefest må avlyses.\n\n\n\nÅrets komité har utfordret hverandre på å bidra til å planlegge en juletrefest uten håndhilsning – og dermed også uten juletregang. Med økende smitte\, og nye restriksjoner for antall deltakere\, kan arrangementet «ALLSANG på juletrefest» like vel ikke gjennomføres.\n\n\n\n«Pappabandet» i regi av Arnstein Solem\, dyktige elever ved skolen\, en motivert komité og forventningsfulle bygdefolk har nok sett frem til jula og juletrefesten.\n\n\nDerfor ønsker vi like vel å dele arrangementet med dere alle.\nVi ønsker og håper at tanken kan inspirere andre arrangører\, når muligheten igjen åpner seg for å samles til julesang i årene som kommer.\n\n\n\nMed dette vil vi ønske ei riktig god jul.\n\n\n\nTa vare på hverandre\, og bruk kreativiteten til å ta vare på tradisjonene\, når vi stadig må lære oss å være sammen på nye måter.\n\n\n\nJulehilsen fra foreldre ved 4.klasse på Kvikne Skole.
URL:https://kvikne.no/arrangement/avlyst-juletrefest/
LOCATION:Kvikne Samfunnshus\, Kvikneveien 4716\, Kvikne\, 2512
CATEGORIES:Skole/Barnehage/Bibliotek
END:VEVENT
BEGIN:VEVENT
DTSTART;TZID=Europe/Oslo:20211123T120000
DTEND;TZID=Europe/Oslo:20211123T140000
DTSTAMP:20260421T174148
CREATED:20211121T192239Z
LAST-MODIFIED:20211121T202251Z
UID:10000244-1637668800-1637676000@kvikne.no
SUMMARY:Bygdekino i Samfunnshuset
DESCRIPTION:Her er melding fra Kommunen:\nVi i Tynset Kino ønsker å arrangere bygdekino i Kvikne samfunnshus. I den forbindelse kjører vi en åpen testvisning. Tirsdag 23. nov. kl. 12.  \nTa en titt på melding som er lagt ut på facebooksidene\, så kan du være med å bestemme hvilken film det blir!
URL:https://kvikne.no/arrangement/bygdekino-i-samfunnshuset/
LOCATION:Kvikne Samfunnshus\, Kvikneveien 4716\, Kvikne\, 2512
CATEGORIES:Kultur,Samfunnshus
ATTACH;FMTTYPE=image/png:https://kvikne.no/wp-content/uploads/2021/11/tynsetkinologo.png
END:VEVENT
BEGIN:VEVENT
DTSTART;TZID=Europe/Oslo:20211121T120000
DTEND;TZID=Europe/Oslo:20211121T160000
DTSTAMP:20260421T174148
CREATED:20211116T143506Z
LAST-MODIFIED:20211116T143506Z
UID:10000241-1637496000-1637510400@kvikne.no
SUMMARY:Adventslunsj
DESCRIPTION:
URL:https://kvikne.no/arrangement/adventslunsj/
LOCATION:Kvikne Samfunnshus\, Kvikneveien 4716\, Kvikne\, 2512
CATEGORIES:Skolemusikk
ATTACH;FMTTYPE=image/bmp:https://kvikne.no/wp-content/uploads/2020/11/ksm-fane.bmp
END:VEVENT
BEGIN:VEVENT
DTSTART;TZID=Europe/Oslo:20211117T193000
DTEND;TZID=Europe/Oslo:20211117T193000
DTSTAMP:20260421T174148
CREATED:20211115T151345Z
LAST-MODIFIED:20211115T151345Z
UID:10000240-1637177400-1637177400@kvikne.no
SUMMARY:SYNG MED OSS
DESCRIPTION:Kvike songlag vil invitere til en hyggelig kveld på Samfunnshuset.\nOnsdag 17.11 kl 19.30.\nVi vil vise filmen fra vi var på Svalbard\, invitere til å synge med oss\, loddsalg og kveldsmat.\nInngang er 100\,- for voksne og 50\,- for barn.\nEn kveld verdt å møte på. \nMvh Styet i Kvikne Songlag.
URL:https://kvikne.no/arrangement/syng-med-oss/
LOCATION:Kvikne Samfunnshus\, Kvikneveien 4716\, Kvikne\, 2512
CATEGORIES:Kultur,Kvikne Songlag,Samfunnshus
ATTACH;FMTTYPE=image/jpeg:https://kvikne.no/wp-content/uploads/2020/12/11536070_406444246218146_2923543083604163550_n.jpg
END:VEVENT
BEGIN:VEVENT
DTSTART;TZID=Europe/Oslo:20211031T120000
DTEND;TZID=Europe/Oslo:20211031T120000
DTSTAMP:20260421T174148
CREATED:20211015T211225Z
LAST-MODIFIED:20211015T211225Z
UID:10000219-1635681600-1635681600@kvikne.no
SUMMARY:Basar i Kvikne Samfunnshus
DESCRIPTION:Se hvem som er med i styret her!
URL:https://kvikne.no/arrangement/basar-i-kvikne-samfunnshus-2/
LOCATION:Kvikne Samfunnshus\, Kvikneveien 4716\, Kvikne\, 2512
CATEGORIES:Samfunnshus
ATTACH;FMTTYPE=image/jpeg:https://kvikne.no/wp-content/uploads/2020/11/SamfunnshusetDSCF6883-e1607347683311.jpg
END:VEVENT
BEGIN:VEVENT
DTSTART;TZID=Europe/Oslo:20210927T193000
DTEND;TZID=Europe/Oslo:20210927T193000
DTSTAMP:20260421T174148
CREATED:20210919T113701Z
LAST-MODIFIED:20210919T113701Z
UID:10000094-1632771000-1632771000@kvikne.no
SUMMARY:Sesongstart for Kvikne Hornmusikk
DESCRIPTION:Nå starter vi på igjen! \n27.09.2021 klokken 19:30 i Samfunnshuset er første øvelse for høsten\, og vi håper at flest mulig av nye og aktive medlemmer vil møte! En hornmusikk er nesten like viktig som et skolekorps for bygda vår\, og vi trenger begge!\nLes mer…
URL:https://kvikne.no/arrangement/sesongstart-for-kvikne-hornmusikk/
LOCATION:Kvikne Samfunnshus\, Kvikneveien 4716\, Kvikne\, 2512
CATEGORIES:Kvikne Hornmusikk
ATTACH;FMTTYPE=image/jpeg:https://kvikne.no/wp-content/uploads/2020/11/khm-logo.jpg
ORGANIZER;CN="Kvikne Hornmusikk":MAILTO:kvikne-hornmusikk@g-mail.com
END:VEVENT
BEGIN:VEVENT
DTSTART;TZID=Europe/Oslo:20210828T150000
DTEND;TZID=Europe/Oslo:20210828T150000
DTSTAMP:20260421T174148
CREATED:20210727T200307Z
LAST-MODIFIED:20210727T200307Z
UID:10000060-1630162800-1630162800@kvikne.no
SUMMARY:Prisutdeling av Mikael Brattbosts talentpris 2021
DESCRIPTION:Hedvig Haugerud tildeles Operasanger Mikael Bratbosts talentpris under en konsert på Kvikne samfunnshus 28. august kl 15. Billetter legges snart ut. Følg med på FB/hjemmesider. Les mer om utdelingen av talentprisen og kjøp billetter her.
URL:https://kvikne.no/arrangement/prisutdeling-av-mikael-brattbosts-talentpris-2021/
LOCATION:Kvikne Samfunnshus\, Kvikneveien 4716\, Kvikne\, 2512
CATEGORIES:Kultur
ATTACH;FMTTYPE=image/jpeg:https://kvikne.no/wp-content/uploads/2021/05/M.Brattbost.jpg
END:VEVENT
BEGIN:VEVENT
DTSTART;TZID=Europe/Oslo:20210228T193000
DTEND;TZID=Europe/Oslo:20210228T193000
DTSTAMP:20260421T174148
CREATED:20210120T090211Z
LAST-MODIFIED:20210120T092731Z
UID:10000004-1614540600-1614540600@kvikne.no
SUMMARY:Årsmøte Kvikne Samfunnshus
DESCRIPTION:Innkalling Årsmøte Kvikne Samfunnshus \n  \nÅrsmøte for 2020 Avholdes søndag 28.februar 2021 kl 19:30 på Kvikne Samfunnshus.\nGjennomføres ihht. de Covid19-regler som gjelder på dette tidspunkt. \nSakliste:\n1. Godkjenning innkalling og sakliste\n2. Årsmelding\n3. Revidert regnskap\n4. Saker som styret legger frem\, herunder støttekontingent\n5. Innkomne saker\, herunder forslag til vedtektsendringer\n6. Framlegge budsjett\n7. Valg jmf § 8 og § 9\n8. Fastsette godtgjørelse \nFrist innkomne saker: 13.februar. Må meldes skriftlig til styreleder Bjørn Bekken.\nFrist frasigelse av verv 31.januar. Meldes til leder i valgkomiteen Heira Stai. \n  \nLast ned innkallingen som PDF-dokument her
URL:https://kvikne.no/arrangement/arsmote-kvikne-samfunnshus/
LOCATION:Kvikne Samfunnshus\, Kvikneveien 4716\, Kvikne\, 2512
CATEGORIES:Samfunnshus
ATTACH;FMTTYPE=image/jpeg:https://kvikne.no/wp-content/uploads/2020/11/SamfunnshusetDSCF6883-e1607347683311.jpg
END:VEVENT
BEGIN:VEVENT
DTSTART;TZID=Europe/Oslo:20210217T200000
DTEND;TZID=Europe/Oslo:20210217T200000
DTSTAMP:20260421T174148
CREATED:20210127T221505Z
LAST-MODIFIED:20210127T221624Z
UID:10000014-1613592000-1613592000@kvikne.no
SUMMARY:Årsmøte i Kvikne Songlag
DESCRIPTION:Innkalling til årsmøtet i Kvikne Songlag\, 2021.\n  \nÅrsmøtet i Kvikne Songlag avholdes 17.02.2021 kl 20.00 i Kvikne Samfunnshus. Gjennomføres etter reglement i henhold til Covid-19 situasjonen\, på daværende tidspunkt. Kan føre med seg at kun styret kan møte opp og da opprette et digitalt møte via ”Teams” e.l. \n  \nSaksliste:\n\nGodkjenning av innkalling og saksliste\nValg av møteleder og sekretær\nÅrsmelding\nRevidert regnskap\nSaker som styret legger frem\nInnkomne saker\nBudsjett for kommende år\nValg\n\n  \nFrist for innkomne saker: 03.februar. Må meldes skriftlig til styreleder\, Jill Connie Sommernes.\nFrist for frasigelse av verv: 30.januar. Meldes til skriftlig til leder i valgkomiteen\, Monika Flaa Sørensen.
URL:https://kvikne.no/arrangement/arsmote-i-kvikne-songlag/
LOCATION:Kvikne Samfunnshus\, Kvikneveien 4716\, Kvikne\, 2512
CATEGORIES:Årsmøte,Kvikne Songlag
ATTACH;FMTTYPE=image/jpeg:https://kvikne.no/wp-content/uploads/2020/12/11536070_406444246218146_2923543083604163550_n.jpg
END:VEVENT
END:VCALENDAR