BEGIN:VCALENDAR
VERSION:2.0
PRODID:-//Kvikne.no - ECPv6.15.20//NONSGML v1.0//EN
CALSCALE:GREGORIAN
METHOD:PUBLISH
X-ORIGINAL-URL:https://kvikne.no
X-WR-CALDESC:Arrangement for Kvikne.no
REFRESH-INTERVAL;VALUE=DURATION:PT1H
X-Robots-Tag:noindex
X-PUBLISHED-TTL:PT1H
BEGIN:VTIMEZONE
TZID:Europe/Oslo
BEGIN:DAYLIGHT
TZOFFSETFROM:+0100
TZOFFSETTO:+0200
TZNAME:CEST
DTSTART:20220327T010000
END:DAYLIGHT
BEGIN:STANDARD
TZOFFSETFROM:+0200
TZOFFSETTO:+0100
TZNAME:CET
DTSTART:20221030T010000
END:STANDARD
BEGIN:DAYLIGHT
TZOFFSETFROM:+0100
TZOFFSETTO:+0200
TZNAME:CEST
DTSTART:20230326T010000
END:DAYLIGHT
BEGIN:STANDARD
TZOFFSETFROM:+0200
TZOFFSETTO:+0100
TZNAME:CET
DTSTART:20231029T010000
END:STANDARD
BEGIN:DAYLIGHT
TZOFFSETFROM:+0100
TZOFFSETTO:+0200
TZNAME:CEST
DTSTART:20240331T010000
END:DAYLIGHT
BEGIN:STANDARD
TZOFFSETFROM:+0200
TZOFFSETTO:+0100
TZNAME:CET
DTSTART:20241027T010000
END:STANDARD
BEGIN:DAYLIGHT
TZOFFSETFROM:+0100
TZOFFSETTO:+0200
TZNAME:CEST
DTSTART:20250330T010000
END:DAYLIGHT
BEGIN:STANDARD
TZOFFSETFROM:+0200
TZOFFSETTO:+0100
TZNAME:CET
DTSTART:20251026T010000
END:STANDARD
BEGIN:DAYLIGHT
TZOFFSETFROM:+0100
TZOFFSETTO:+0200
TZNAME:CEST
DTSTART:20260329T010000
END:DAYLIGHT
BEGIN:STANDARD
TZOFFSETFROM:+0200
TZOFFSETTO:+0100
TZNAME:CET
DTSTART:20261025T010000
END:STANDARD
END:VTIMEZONE
BEGIN:VEVENT
DTSTART;TZID=Europe/Oslo:20250217T160000
DTEND;TZID=Europe/Oslo:20250217T160000
DTSTAMP:20260421T132456
CREATED:20250120T101844Z
LAST-MODIFIED:20250120T101854Z
UID:10001474-1739808000-1739808000@kvikne.no
SUMMARY:Årsmøte Pensjonist forbundet
DESCRIPTION:ÅRSMØTE \nPENSJONISTFORBUNDET KVIKNE \nSTED: Kvikne Samfunnshus \nTID: Mandag 17/2-2025 Kl 16.00 \n  \nSAKLISTE  \n\nGodkjenning av innkalling og sakliste \nValg av møteleder og referent\nValg av to medlemmer til å \n\nunderskrive protokollen \n\nÅrsmelding\nRegnskap\nBudsjett for 2025\nInnkomne forslag\nValg\n\nFrasigelse av verv til valgkomiteens leder Ninni Grue innen 10/2 \nForslag til saker som ønskes behandlet på årsmøtet må være styrets leder i hende innen 10/2 \nKaffe og kaker etter møtet \nUnderholdning av Stein Nygård og Johan Sundberg \n  \nStyret
URL:https://kvikne.no/arrangement/arsmote-pensjonist-forbundet-3/
LOCATION:Kvikne Samfunnshus\, Kvikneveien 4716\, Kvikne\, 2512
CATEGORIES:Årsmøte,Pensjonistforbundet Kvikne
ATTACH;FMTTYPE=image/png:https://kvikne.no/wp-content/uploads/2021/02/ccce38d7cfa6b06d0c9c310780923761_400x400-e1742892699808.png
END:VEVENT
BEGIN:VEVENT
DTSTART;TZID=Europe/Oslo:20250215T183000
DTEND;TZID=Europe/Oslo:20250215T203000
DTSTAMP:20260421T132456
CREATED:20250204T165521Z
LAST-MODIFIED:20250204T165521Z
UID:10001482-1739644200-1739651400@kvikne.no
SUMMARY:Vinterkonsert
DESCRIPTION:
URL:https://kvikne.no/arrangement/vinterkonsert/
LOCATION:Kvikne Samfunnshus\, Kvikneveien 4716\, Kvikne\, 2512
CATEGORIES:Kvikne Hornmusikk
ATTACH;FMTTYPE=image/jpeg:https://kvikne.no/wp-content/uploads/2025/02/vinterkonsert-25.jpg
ORGANIZER;CN="Kvikne Hornmusikk":MAILTO:kvikne-hornmusikk@g-mail.com
END:VEVENT
BEGIN:VEVENT
DTSTART;TZID=Europe/Oslo:20250209T193000
DTEND;TZID=Europe/Oslo:20250209T193000
DTSTAMP:20260421T132456
CREATED:20250109T203739Z
LAST-MODIFIED:20250109T204118Z
UID:10001471-1739129400-1739129400@kvikne.no
SUMMARY:Årsmøte Kvikne Samfunnshus
DESCRIPTION:Årsmøte Kvikne Samfunnshus\n \nSøndag 9. februar kl. 19.30 i Samfunnshuset. \nSakliste:\n Åpning\nValg av referent og møteleder\nGodkjenning av innkalling\nÅrsmelding\nRevidert regnskap\nSaker fremmet av styret\nInnkomne saker\nValg \nInnkomne saker sendes Oddveig Fossum\, tlf. 911 45 578\, innen 1. februar. \nFrasigelse av verv sendes til Mona Sæbø\, tlf. 474 14 858\, innen 26. januar \n  \nVelkommen \nStyret \n 
URL:https://kvikne.no/arrangement/arsmote-kvikne-samfunnshus-3/
LOCATION:Kvikne Samfunnshus\, Kvikneveien 4716\, Kvikne\, 2512
CATEGORIES:Årsmøte,Samfunnshus
ATTACH;FMTTYPE=image/jpeg:https://kvikne.no/wp-content/uploads/2020/11/Samfunnshuset_lite.jpg
END:VEVENT
BEGIN:VEVENT
DTSTART;TZID=Europe/Oslo:20250126T120000
DTEND;TZID=Europe/Oslo:20250126T150000
DTSTAMP:20260421T132456
CREATED:20241228T090612Z
LAST-MODIFIED:20250108T163936Z
UID:10001057-1737892800-1737903600@kvikne.no
SUMMARY:Basar
DESCRIPTION:
URL:https://kvikne.no/arrangement/basar/
LOCATION:Kvikne Samfunnshus\, Kvikneveien 4716\, Kvikne\, 2512
CATEGORIES:Kultur,Samfunnshus
ATTACH;FMTTYPE=image/jpeg:https://kvikne.no/wp-content/uploads/2024/12/Basar-2025-scaled.jpg
END:VEVENT
BEGIN:VEVENT
DTSTART;TZID=Europe/Oslo:20241229T120000
DTEND;TZID=Europe/Oslo:20241229T150000
DTSTAMP:20260421T132456
CREATED:20241211T105350Z
LAST-MODIFIED:20241211T105350Z
UID:10001052-1735473600-1735484400@kvikne.no
SUMMARY:Juletrefest
DESCRIPTION:
URL:https://kvikne.no/arrangement/juletrefest/
LOCATION:Kvikne Samfunnshus\, Kvikneveien 4716\, Kvikne\, 2512
CATEGORIES:Kultur
ATTACH;FMTTYPE=image/jpeg:https://kvikne.no/wp-content/uploads/2024/12/Juletrefest-2024.jpg
END:VEVENT
BEGIN:VEVENT
DTSTART;TZID=Europe/Oslo:20241213T180000
DTEND;TZID=Europe/Oslo:20241213T180000
DTSTAMP:20260421T132456
CREATED:20241128T065836Z
LAST-MODIFIED:20241128T083517Z
UID:10001042-1734112800-1734112800@kvikne.no
SUMMARY:Luciakonsert og kino
DESCRIPTION:
URL:https://kvikne.no/arrangement/luciakonsert/
LOCATION:Kvikne Samfunnshus\, Kvikneveien 4716\, Kvikne\, 2512
CATEGORIES:Kultur,Kvikne Songlag
END:VEVENT
BEGIN:VEVENT
DTSTART;TZID=Europe/Oslo:20241210T190000
DTEND;TZID=Europe/Oslo:20241210T190000
DTSTAMP:20260421T132456
CREATED:20241129T201152Z
LAST-MODIFIED:20241129T201200Z
UID:10001044-1733857200-1733857200@kvikne.no
SUMMARY:Grøtkonsert
DESCRIPTION:Velkommen til grøtkonsert tirsdag 10.desember i Kvikne samfunnshus! \n\nTa med storfamilien til grøtkveldsmat og lytt til koselig julebrassmusikk.\nGratis inngang!\n\nDørene åpner kl. 19.00. Hornmusikken spiller julebrassmusikk kl. 19.30. Det blir to økter med spilling\, på omtrent 20 minutter hver. I pausen selges grøt med spekemat og flatbrød. Vi selger også årer\, så her har du mulighet til å delta i spennende lotteri og vinne mange gevinster.\n\nVelkommen til ei trivelig førjulsstund\, alle sammen! \n\nArrangør: Kvikne hornmusikk
URL:https://kvikne.no/arrangement/grotkonsert/
LOCATION:Kvikne Samfunnshus\, Kvikneveien 4716\, Kvikne\, 2512
CATEGORIES:Kultur,Kvikne Hornmusikk
ORGANIZER;CN="Kvikne Hornmusikk":MAILTO:kvikne-hornmusikk@g-mail.com
END:VEVENT
BEGIN:VEVENT
DTSTART;TZID=Europe/Oslo:20241201T130000
DTEND;TZID=Europe/Oslo:20241201T130000
DTSTAMP:20260421T132456
CREATED:20241129T062608Z
LAST-MODIFIED:20241129T062714Z
UID:10001043-1733058000-1733058000@kvikne.no
SUMMARY:Adventslunsj
DESCRIPTION:
URL:https://kvikne.no/arrangement/adventslunsj-3/
LOCATION:Kvikne Samfunnshus\, Kvikneveien 4716\, Kvikne\, 2512
CATEGORIES:Kultur,Skolemusikk
END:VEVENT
BEGIN:VEVENT
DTSTART;TZID=Europe/Oslo:20240618T180000
DTEND;TZID=Europe/Oslo:20240618T180000
DTSTAMP:20260421T132456
CREATED:20240605T195735Z
LAST-MODIFIED:20240605T195743Z
UID:10000944-1718733600-1718733600@kvikne.no
SUMMARY:Sommeravslutning
DESCRIPTION:
URL:https://kvikne.no/arrangement/sommeravslutning/
LOCATION:Kvikne Samfunnshus\, Kvikneveien 4716\, Kvikne\, 2512
CATEGORIES:Kultur,Kvikne Songlag,Samfunnshus
END:VEVENT
BEGIN:VEVENT
DTSTART;TZID=Europe/Oslo:20240513T180000
DTEND;TZID=Europe/Oslo:20240513T180000
DTSTAMP:20260421T132456
CREATED:20240503T160646Z
LAST-MODIFIED:20240503T160654Z
UID:10000936-1715623200-1715623200@kvikne.no
SUMMARY:Vårrydding Samfunnshuset
DESCRIPTION:
URL:https://kvikne.no/arrangement/varrydding-samfunnshuset/
LOCATION:Kvikne Samfunnshus\, Kvikneveien 4716\, Kvikne\, 2512
CATEGORIES:Dugnad,Samfunnshus,Vårrydding
ATTACH;FMTTYPE=image/jpeg:https://kvikne.no/wp-content/uploads/2020/11/Dugnader_1346.jpg
END:VEVENT
BEGIN:VEVENT
DTSTART;TZID=Europe/Oslo:20240414T190000
DTEND;TZID=Europe/Oslo:20240414T190000
DTSTAMP:20260421T132456
CREATED:20240312T123506Z
LAST-MODIFIED:20240312T123528Z
UID:10000921-1713121200-1713121200@kvikne.no
SUMMARY:Kabaret med Kvikne Songlag
DESCRIPTION:Kvikne Songlag vil gjerne få invitere til Kabaret aften\, Kor-artig  Kor-onna  Kor-fælt.\nSett av søndag\, 14.04 kl 19.00\, til en kveld med sang\, sketsjer\, allsang og enkel servering.\nDette blir en morsom kveld \nBillettprisen er satt til kr 250\,- for voksne og kr 100\,- for barn\, dette inkluderer servering.\nVi tar betaling med Vipps eller kontant.
URL:https://kvikne.no/arrangement/kabaret-med-kvikne-songlag/
LOCATION:Kvikne Samfunnshus\, Kvikneveien 4716\, Kvikne\, 2512
CATEGORIES:Kultur,Kvikne Songlag,Samfunnshus
END:VEVENT
BEGIN:VEVENT
DTSTART;TZID=Europe/Oslo:20240328T193000
DTEND;TZID=Europe/Oslo:20240328T193000
DTSTAMP:20260421T132456
CREATED:20240229T202855Z
LAST-MODIFIED:20240312T121748Z
UID:10000918-1711654200-1711654200@kvikne.no
SUMMARY:Påskequiz
DESCRIPTION:Quizmaster Frode Aalbu.
URL:https://kvikne.no/arrangement/paskequiz/
LOCATION:Kvikne Samfunnshus\, Kvikneveien 4716\, Kvikne\, 2512
CATEGORIES:Kultur,Samfunnshus
END:VEVENT
BEGIN:VEVENT
DTSTART;TZID=Europe/Oslo:20240324T180000
DTEND;TZID=Europe/Oslo:20240324T180000
DTSTAMP:20260421T132456
CREATED:20240224T155110Z
LAST-MODIFIED:20240224T155117Z
UID:10000916-1711303200-1711303200@kvikne.no
SUMMARY:THE VOICE
DESCRIPTION:
URL:https://kvikne.no/arrangement/the-voice/
LOCATION:Kvikne Samfunnshus\, Kvikneveien 4716\, Kvikne\, 2512
CATEGORIES:Kultur,Samfunnshus,Skolemusikk
ATTACH;FMTTYPE=image/jpeg:https://kvikne.no/wp-content/uploads/2024/02/The-voice.jpg
END:VEVENT
BEGIN:VEVENT
DTSTART;TZID=Europe/Oslo:20240316T183000
DTEND;TZID=Europe/Oslo:20240316T203000
DTSTAMP:20260421T132456
CREATED:20240306T144930Z
LAST-MODIFIED:20240306T144930Z
UID:10000919-1710613800-1710621000@kvikne.no
SUMMARY:Vinterkonsert med Kvikne Hornmusikk
DESCRIPTION:
URL:https://kvikne.no/arrangement/vinterkonsert-med-kvikne-hornmusikk-2/
LOCATION:Kvikne Samfunnshus\, Kvikneveien 4716\, Kvikne\, 2512
CATEGORIES:Kvikne Hornmusikk,Samfunnshus
ORGANIZER;CN="Kvikne Hornmusikk":MAILTO:kvikne-hornmusikk@g-mail.com
END:VEVENT
BEGIN:VEVENT
DTSTART;TZID=Europe/Oslo:20240203T190000
DTEND;TZID=Europe/Oslo:20240203T190000
DTSTAMP:20260421T132456
CREATED:20240109T134420Z
LAST-MODIFIED:20240109T134634Z
UID:10000902-1706986800-1706986800@kvikne.no
SUMMARY:En akustisk Elvis aften
DESCRIPTION:
URL:https://kvikne.no/arrangement/en-akustisk-elvis-aften/
LOCATION:Kvikne Samfunnshus\, Kvikneveien 4716\, Kvikne\, 2512
CATEGORIES:Kultur,Samfunnshus
END:VEVENT
BEGIN:VEVENT
DTSTART;TZID=Europe/Oslo:20240201T180000
DTEND;TZID=Europe/Oslo:20240201T180000
DTSTAMP:20260421T132456
CREATED:20240109T094640Z
LAST-MODIFIED:20240116T185025Z
UID:10000901-1706810400-1706810400@kvikne.no
SUMMARY:Årsmøte Kvikne Husflidslag
DESCRIPTION:Kvikne Husflidslag har årsmøte på samfunnshuset 1. februar kl. 18. Vanlige årsmøtesaker og litt servering.
URL:https://kvikne.no/arrangement/arsmote-kvikne-husflidslag-2/
LOCATION:Kvikne Samfunnshus\, Kvikneveien 4716\, Kvikne\, 2512
CATEGORIES:Årsmøte,Husflidslaget
ATTACH;FMTTYPE=image/jpeg:https://kvikne.no/wp-content/uploads/2021/01/kviknelogo.jpg
END:VEVENT
BEGIN:VEVENT
DTSTART;TZID=Europe/Oslo:20240117T200000
DTEND;TZID=Europe/Oslo:20240117T200000
DTSTAMP:20260421T132456
CREATED:20231230T095836Z
LAST-MODIFIED:20231230T100011Z
UID:10000892-1705521600-1705521600@kvikne.no
SUMMARY:Årsmøte Kvikne Songlag
DESCRIPTION:Innkalling til årsmøte i Kvikne songlag 2024 \nÅrsmøtet i Kvikne songlag avholdes i Kvikne samfunnshus 17/1-24 kl.20.00. \nSakliste:\n1. Godkjenning av innkalling og sakliste \n2. Valg av møteleder og sekretær \n3. Årsmelding \n4. Revidert regnskap \n5. Saker som styret legger frem \n6. Innkomne saker \n7. Budsjett for kommende år \n8. Valg \nFrist for innkomne saker: 7/1. Må meldes skriftlig til styreleder Kari Beate B Rønning. \nFrist for frasigelser av verv : 3/1. Meldes skriflig til leder i valgkomiteen Svein Magne Storaas.
URL:https://kvikne.no/arrangement/arsmote-kvikne-songlag-2/
LOCATION:Kvikne Samfunnshus\, Kvikneveien 4716\, Kvikne\, 2512
CATEGORIES:Årsmøte,Kvikne Songlag
ATTACH;FMTTYPE=image/jpeg:https://kvikne.no/wp-content/uploads/2020/12/11536070_406444246218146_2923543083604163550_n.jpg
END:VEVENT
BEGIN:VEVENT
DTSTART;TZID=Europe/Oslo:20231229T120000
DTEND;TZID=Europe/Oslo:20231229T150000
DTSTAMP:20260421T132456
CREATED:20231215T081254Z
LAST-MODIFIED:20231217T123523Z
UID:10000780-1703851200-1703862000@kvikne.no
SUMMARY:Juletrefest 5. juledag!
DESCRIPTION:
URL:https://kvikne.no/arrangement/juletrefest-5-juledag/
LOCATION:Kvikne Samfunnshus\, Kvikneveien 4716\, Kvikne\, 2512
CATEGORIES:Skole/Barnehage/Bibliotek
END:VEVENT
BEGIN:VEVENT
DTSTART;TZID=Europe/Oslo:20231213T180000
DTEND;TZID=Europe/Oslo:20231213T180000
DTSTAMP:20260421T132456
CREATED:20231116T202300Z
LAST-MODIFIED:20231116T202337Z
UID:10000758-1702490400-1702490400@kvikne.no
SUMMARY:Luciafeiring
DESCRIPTION:Luciafeiring på Kvikne \nPlakat finner du her.
URL:https://kvikne.no/arrangement/luciafeiring/
LOCATION:Kvikne Samfunnshus\, Kvikneveien 4716\, Kvikne\, 2512
ATTACH;FMTTYPE=image/png:https://kvikne.no/wp-content/uploads/2023/11/lucia-e1700164515953.png
END:VEVENT
BEGIN:VEVENT
DTSTART;TZID=Europe/Oslo:20231203T120000
DTEND;TZID=Europe/Oslo:20231203T120000
DTSTAMP:20260421T132456
CREATED:20231107T110914Z
LAST-MODIFIED:20231107T110923Z
UID:10000756-1701604800-1701604800@kvikne.no
SUMMARY:Adventslunsj
DESCRIPTION:
URL:https://kvikne.no/arrangement/adventslunsj-2/
LOCATION:Kvikne Samfunnshus\, Kvikneveien 4716\, Kvikne\, 2512
CATEGORIES:Skolemusikk
END:VEVENT
BEGIN:VEVENT
DTSTART;TZID=Europe/Oslo:20231125T210000
DTEND;TZID=Europe/Oslo:20231125T210000
DTSTAMP:20260421T132456
CREATED:20231019T074049Z
LAST-MODIFIED:20231019T074214Z
UID:10000690-1700946000-1700946000@kvikne.no
SUMMARY:Siste Dans med Kviknegutta
DESCRIPTION:Etter «Siste Dans med Kviknegutta» i Olavshallen og på Tynset kulturhus har vi fått mange henvendelser om å kjøre en runde til der det faktisk går an å danse.\nVi prøver oss derfor med et arrangement i Kvikne Samfunnshus den 25.november. Kvikne Skolemusikk står for kjøkken og vakthold. Salg av øl og vin.\nMEN vi orker ikke spille for 20 mann så derfor blir det forhåndssalg av billetter på VIPPS. Hvis det ikke selges over 100 billetter før 15.november blir arrangementet avlyst. Billetter solgt på VIPPS ved avlysning blir vippset tilbake. Vipps kr.250\,- til 47643323 før 15.november
URL:https://kvikne.no/arrangement/siste-dans-med-kviknegutta/
LOCATION:Kvikne Samfunnshus\, Kvikneveien 4716\, Kvikne\, 2512
CATEGORIES:Kultur,Samfunnshus,Skolemusikk
ATTACH;FMTTYPE=image/jpeg:https://kvikne.no/wp-content/uploads/2023/10/Siste-dansen-KG.jpg
END:VEVENT
BEGIN:VEVENT
DTSTART;TZID=Europe/Oslo:20231111T170000
DTEND;TZID=Europe/Oslo:20231111T170000
DTSTAMP:20260421T132456
CREATED:20231107T110352Z
LAST-MODIFIED:20231107T110531Z
UID:10000755-1699722000-1699722000@kvikne.no
SUMMARY:Korpstreff-konsert
DESCRIPTION:
URL:https://kvikne.no/arrangement/korpstreff-konsert/
LOCATION:Kvikne Samfunnshus\, Kvikneveien 4716\, Kvikne\, 2512
CATEGORIES:Kvikne Hornmusikk
ORGANIZER;CN="Kvikne Hornmusikk":MAILTO:kvikne-hornmusikk@g-mail.com
END:VEVENT
BEGIN:VEVENT
DTSTART;TZID=Europe/Oslo:20231105T120000
DTEND;TZID=Europe/Oslo:20231105T150000
DTSTAMP:20260421T132456
CREATED:20220927T214623Z
LAST-MODIFIED:20231029T185849Z
UID:10000226-1699185600-1699196400@kvikne.no
SUMMARY:Basar i Samfunnshuset
DESCRIPTION:Søndag 5. november klokken 12 arrangeres det basar i Samfunnshuset. \nDet blir utlodning\, åresalg\, bingo\, kjøkkensalg med mere. \nStyret ønsker velkommen til en trivelig basardag i Samfunnshuset!
URL:https://kvikne.no/arrangement/basar-i-samfunnshuset/
LOCATION:Kvikne Samfunnshus\, Kvikneveien 4716\, Kvikne\, 2512
CATEGORIES:Samfunnshus
ATTACH;FMTTYPE=image/jpeg:https://kvikne.no/wp-content/uploads/2020/11/SamfunnshusetDSCF6883-e1607347683311.jpg
END:VEVENT
BEGIN:VEVENT
DTSTART;TZID=Europe/Oslo:20230831T193000
DTEND;TZID=Europe/Oslo:20230831T193000
DTSTAMP:20260421T132457
CREATED:20230824T094354Z
LAST-MODIFIED:20230824T094404Z
UID:10000657-1693510200-1693510200@kvikne.no
SUMMARY:Valgmøte på Kvikne
DESCRIPTION:Valgmøte på Kvikne torsdag 31.8. kl 19.30 i Kvikne Samfunnshus \nLes mer…
URL:https://kvikne.no/arrangement/valgmote-pa-kvikne/
LOCATION:Kvikne Samfunnshus\, Kvikneveien 4716\, Kvikne\, 2512
CATEGORIES:Kvikne Utvikling
ATTACH;FMTTYPE=image/jpeg:https://kvikne.no/wp-content/uploads/2021/11/KU-lite-logo.jpg
END:VEVENT
BEGIN:VEVENT
DTSTART;TZID=Europe/Oslo:20230612T183000
DTEND;TZID=Europe/Oslo:20230612T210000
DTSTAMP:20260421T132457
CREATED:20230602T221044Z
LAST-MODIFIED:20230605T124353Z
UID:10000637-1686594600-1686603600@kvikne.no
SUMMARY:Sommerkonsert
DESCRIPTION:Mandag 12.juni holdes den tradisjonelle sommerkonserten på Kvikne! \nSommerkonserten er en felles sesongavslutning for Kvikne skolemusikk med aspiranter\, Kvikne songlag og Kvikne hornmusikk. Det vil bli musikalske innslag med stor variasjon i sjanger\, opprinnelse og uttrykk. Foruten musikken blir det avbrekk med kaffe\, kake og lotteri\, der lokale bedrifter på Kvikne står for flotte gevinster. Som en «velkommen til Norge og Kvikne»-hilsen er bygdas nye ukrainske familier invitert med gratis inngang. \nVelkommen til sommerkonsert mandag 12.juni kl.18.30 i Kvikne samfunnshus!
URL:https://kvikne.no/arrangement/sommerkonsert-2/
LOCATION:Kvikne Samfunnshus\, Kvikneveien 4716\, Kvikne\, 2512
CATEGORIES:Kvikne Hornmusikk,Kvikne Songlag,Skolemusikk
END:VEVENT
BEGIN:VEVENT
DTSTART;TZID=Europe/Oslo:20230406T193000
DTEND;TZID=Europe/Oslo:20230406T193000
DTSTAMP:20260421T132457
CREATED:20230124T202355Z
LAST-MODIFIED:20230124T202416Z
UID:10000533-1680809400-1680809400@kvikne.no
SUMMARY:Skjærtorsdags-quiz i Samfunnshuset
DESCRIPTION:Quiz skjærtorsdag 6 . April kl. 19.30\, Quizmaster i år er Frode Aalbu
URL:https://kvikne.no/arrangement/skjaertorsdags-quiz-i-samfunnshuset/
LOCATION:Kvikne Samfunnshus\, Kvikneveien 4716\, Kvikne\, 2512
CATEGORIES:Samfunnshus
ATTACH;FMTTYPE=image/jpeg:https://kvikne.no/wp-content/uploads/2020/11/SamfunnshusetDSCF6883-e1607347683311.jpg
END:VEVENT
BEGIN:VEVENT
DTSTART;TZID=Europe/Oslo:20230402T180000
DTEND;TZID=Europe/Oslo:20230402T180000
DTSTAMP:20260421T132457
CREATED:20230321T081759Z
LAST-MODIFIED:20230321T082309Z
UID:10000573-1680458400-1680458400@kvikne.no
SUMMARY:Skal vi danse?
DESCRIPTION:Billettene flyr unna!!\nSikre dere plassbilletter på årets store show av og med Kvikne Skolemusikk.\nGå inn på VIPPS#611953 -legg ønsket varer i handlevogn og bestill.\n\n6 dansepar fra arbeidplasser i kommunen er representert. De vil entre’ danseparketten i sin; swing\, quickstep eller engelske-vals.\nHvilket dansepar kommer til finalen ? -Det blir opp til dere og bestemme.\n\nSkolemusikken er i storform\, og sammen med pappabandet og Milenburg Joys Jazz Quintet vil de servere et forrykende musikalsk show.\n\nEtter endt show er alle invitert på parketten for en times «skal vi danse-fest». Her kan store og små swinge seg til fengende 20-talls rytmer.\n\nVelkommen.
URL:https://kvikne.no/arrangement/skal-vi-danse/
LOCATION:Kvikne Samfunnshus\, Kvikneveien 4716\, Kvikne\, 2512
CATEGORIES:Skolemusikk
ATTACH;FMTTYPE=image/jpeg:https://kvikne.no/wp-content/uploads/2023/03/Skal-vi-danse.jpg
END:VEVENT
BEGIN:VEVENT
DTSTART;TZID=Europe/Oslo:20230311T190000
DTEND;TZID=Europe/Oslo:20230311T190000
DTSTAMP:20260421T132457
CREATED:20230302T082048Z
LAST-MODIFIED:20230304T100924Z
UID:10000567-1678561200-1678561200@kvikne.no
SUMMARY:Vinterkonsert med Kvikne Hornmusikk
DESCRIPTION:Velkommen til Vinterkonsert med Kvikne Hornmusikk! \nKlarer du å holde følge med hornmusikken\, Reodor Felgen\, il tempo gigante og Funky Hedde\, eller ønsker du en rolig stund på Gressholmen? Da bør du ta deg turen ned i Kvikne samfunnshus lørdag 11.mars kl.19.00\, konsertstart 19.30. \nKvikne Hornmusikk med dirigent Ingrid Øien. Ingrid dirigerte oss for nesten 20 år siden\, og har nå kommet tilbake for å dirigere! \nVi er i år nesten full besetning på alle stemmer\, og har fått med oss flere nye medlemmer. \nDette blir en brasskveld med variert repertoar som passer for en hver smak! \nVoksen : 200 kr \nBarn i skolealder (1.-10.kl): 100kr \nUnder skolealder: gratis \nKaffe\, kake og saft inkluderes i inngang. \nVi tar vipps\, kontant og kort
URL:https://kvikne.no/arrangement/vinterkonsert-med-kvikne-hornmusikk/
LOCATION:Kvikne Samfunnshus\, Kvikneveien 4716\, Kvikne\, 2512
CATEGORIES:Kvikne Hornmusikk
ATTACH;FMTTYPE=image/jpeg:https://kvikne.no/wp-content/uploads/2020/11/khm-logo.jpg
ORGANIZER;CN="Kvikne Hornmusikk":MAILTO:kvikne-hornmusikk@g-mail.com
END:VEVENT
BEGIN:VEVENT
DTSTART;TZID=Europe/Oslo:20230226T200000
DTEND;TZID=Europe/Oslo:20230226T200000
DTSTAMP:20260421T132457
CREATED:20230124T201538Z
LAST-MODIFIED:20230124T201547Z
UID:10000532-1677441600-1677441600@kvikne.no
SUMMARY:Årsmøte Kvikne Samfunnshus
DESCRIPTION:Årsmøte i Kvikne Samfunnshus 26 februar kl. 20.00 i sam. huset. \nVanlige årsmøtesaker.
URL:https://kvikne.no/arrangement/arsmote-kvikne-samfunnshus-2/
LOCATION:Kvikne Samfunnshus\, Kvikneveien 4716\, Kvikne\, 2512
CATEGORIES:Årsmøte,Samfunnshus
ATTACH;FMTTYPE=image/jpeg:https://kvikne.no/wp-content/uploads/2020/11/SamfunnshusetDSCF6883-e1607347683311.jpg
END:VEVENT
BEGIN:VEVENT
DTSTART;TZID=Europe/Oslo:20230223T190000
DTEND;TZID=Europe/Oslo:20230223T190000
DTSTAMP:20260421T132457
CREATED:20230124T082303Z
LAST-MODIFIED:20230124T082739Z
UID:10000531-1677178800-1677178800@kvikne.no
SUMMARY:Årsmøte og bygdemøte Kvikne Utvikling
DESCRIPTION:Kvikne Utvikling\n\nInviterer til BYGDEMØTE  \ntorsdag 23. februar kl 19 i samfunnshuset. \n  \nTema: BEREDSKAP  \n– kommunens ansvar (spesielt varsling) \n– hverdagsberedskap: hvordan ta vare på hverandre når det er mange kriser på en gang \nAss. kommunedirektør Amund Aarvelta og tjenesteområdeleder for helsetjenesten Toril Nyhus kommer \n  \nVi starter med et kort ÅRSMØTE for Kvikne Utvikling med følgende sakliste: \n1. Godkjenning av innkalling og dagsorden.  \n2. Valg av møteleder\, referent og to medlemmer til å underskrive protokollen. \n3. Styrets årsberetning. \n4. Revidert regnskap.  \n5. Kviknerabatten på strøm – skal det gjøres endringer i avtalen? \n6. Valg av styre og leder\, samt velge et nytt medlem til valgkomiteen og en ny revisor. \n7. Innkomne saker. \nInnkomne saker må være styret i hende 3 uker før\, dvs senest 1. februar\, til leder Kirsten H Lund på tlf 97433655\, eller nestleder Frode Flaa på tlf 41415146 \nSalg av kaffe og kake for å dekke husleia i samfunnshuset. \nHÅPER VI SEES!
URL:https://kvikne.no/arrangement/arsmote-kvikne-utvikling-2/
LOCATION:Kvikne Samfunnshus\, Kvikneveien 4716\, Kvikne\, 2512
CATEGORIES:Årsmøte
ATTACH;FMTTYPE=image/jpeg:https://kvikne.no/wp-content/uploads/2021/11/KU-logo-scaled.jpg
END:VEVENT
END:VCALENDAR