BEGIN:VCALENDAR
VERSION:2.0
PRODID:-//Kvikne.no - ECPv6.15.20//NONSGML v1.0//EN
CALSCALE:GREGORIAN
METHOD:PUBLISH
X-WR-CALNAME:Kvikne.no
X-ORIGINAL-URL:https://kvikne.no
X-WR-CALDESC:Arrangement for Kvikne.no
REFRESH-INTERVAL;VALUE=DURATION:PT1H
X-Robots-Tag:noindex
X-PUBLISHED-TTL:PT1H
BEGIN:VTIMEZONE
TZID:Europe/Oslo
BEGIN:DAYLIGHT
TZOFFSETFROM:+0100
TZOFFSETTO:+0200
TZNAME:CEST
DTSTART:20230326T010000
END:DAYLIGHT
BEGIN:STANDARD
TZOFFSETFROM:+0200
TZOFFSETTO:+0100
TZNAME:CET
DTSTART:20231029T010000
END:STANDARD
BEGIN:DAYLIGHT
TZOFFSETFROM:+0100
TZOFFSETTO:+0200
TZNAME:CEST
DTSTART:20240331T010000
END:DAYLIGHT
BEGIN:STANDARD
TZOFFSETFROM:+0200
TZOFFSETTO:+0100
TZNAME:CET
DTSTART:20241027T010000
END:STANDARD
BEGIN:DAYLIGHT
TZOFFSETFROM:+0100
TZOFFSETTO:+0200
TZNAME:CEST
DTSTART:20250330T010000
END:DAYLIGHT
BEGIN:STANDARD
TZOFFSETFROM:+0200
TZOFFSETTO:+0100
TZNAME:CET
DTSTART:20251026T010000
END:STANDARD
BEGIN:DAYLIGHT
TZOFFSETFROM:+0100
TZOFFSETTO:+0200
TZNAME:CEST
DTSTART:20260329T010000
END:DAYLIGHT
BEGIN:STANDARD
TZOFFSETFROM:+0200
TZOFFSETTO:+0100
TZNAME:CET
DTSTART:20261025T010000
END:STANDARD
BEGIN:DAYLIGHT
TZOFFSETFROM:+0100
TZOFFSETTO:+0200
TZNAME:CEST
DTSTART:20270328T010000
END:DAYLIGHT
BEGIN:STANDARD
TZOFFSETFROM:+0200
TZOFFSETTO:+0100
TZNAME:CET
DTSTART:20271031T010000
END:STANDARD
END:VTIMEZONE
BEGIN:VEVENT
DTSTART;TZID=Europe/Oslo:20260415T193000
DTEND;TZID=Europe/Oslo:20260415T193000
DTSTAMP:20260421T104258
CREATED:20260327T200845Z
LAST-MODIFIED:20260327T200857Z
UID:10002506-1776281400-1776281400@kvikne.no
SUMMARY:Kafékor
DESCRIPTION:Kvikne Songlag har vært så heldige og få midler for prosjektet «Hele bygda synger». Vi vil derfor invitere alle «bygdas beboere» til Kafékor\, hvor vi skal synge litt sammen\, blant annet en nyinnøving som kanskje kan brukes senere.\nVi håper på stinn brakke. Kvelden er gratis og blir garantert morsom. \n 
URL:https://kvikne.no/arrangement/kafekor/
LOCATION:Kvikne Samfunnshus\, Kvikneveien 4716\, Kvikne\, 2512
CATEGORIES:Kvikne Songlag
ATTACH;FMTTYPE=image/jpeg:https://kvikne.no/wp-content/uploads/2026/03/Kafekor.jpg
END:VEVENT
BEGIN:VEVENT
DTSTART;TZID=Europe/Oslo:20260402T190000
DTEND;TZID=Europe/Oslo:20260402T190000
DTSTAMP:20260421T104258
CREATED:20260318T164024Z
LAST-MODIFIED:20260328T100651Z
UID:10002499-1775156400-1775156400@kvikne.no
SUMMARY:Påskequiz
DESCRIPTION:
URL:https://kvikne.no/arrangement/paskequiz-2/
LOCATION:Kvikne Samfunnshus\, Kvikneveien 4716\, Kvikne\, 2512
CATEGORIES:Påske,Samfunnshus,Underholdning
ATTACH;FMTTYPE=image/jpeg:https://kvikne.no/wp-content/uploads/2026/03/Paskequiz-26.jpg
END:VEVENT
BEGIN:VEVENT
DTSTART;TZID=Europe/Oslo:20260329T180000
DTEND;TZID=Europe/Oslo:20260329T210000
DTSTAMP:20260421T104258
CREATED:20260106T125417Z
LAST-MODIFIED:20260328T100558Z
UID:10002445-1774807200-1774818000@kvikne.no
SUMMARY:Maskorama
DESCRIPTION:
URL:https://kvikne.no/arrangement/maskorama-2/
LOCATION:Kvikne Samfunnshus\, Kvikneveien 4716\, Kvikne\, 2512
CATEGORIES:Kultur,Påske,Skolemusikk,Underholdning
ATTACH;FMTTYPE=image/jpeg:https://kvikne.no/wp-content/uploads/2026/01/Maskorama-2026-scaled.jpg
END:VEVENT
BEGIN:VEVENT
DTSTART;TZID=Europe/Oslo:20260307T180000
DTEND;TZID=Europe/Oslo:20260307T180000
DTSTAMP:20260421T104258
CREATED:20260130T130743Z
LAST-MODIFIED:20260205T155249Z
UID:10002459-1772906400-1772906400@kvikne.no
SUMMARY:Eurovisjon film-fremvisning
DESCRIPTION:
URL:https://kvikne.no/arrangement/eurovisjon-film-fremvisning/
LOCATION:Kvikne Samfunnshus\, Kvikneveien 4716\, Kvikne\, 2512
CATEGORIES:Skolemusikk,Underholdning
ATTACH;FMTTYPE=image/jpeg:https://kvikne.no/wp-content/uploads/2026/01/Filmkveld-mars-2026.jpg
END:VEVENT
BEGIN:VEVENT
DTSTART;TZID=Europe/Oslo:20260222T200000
DTEND;TZID=Europe/Oslo:20260222T210000
DTSTAMP:20260421T104258
CREATED:20260116T145129Z
LAST-MODIFIED:20260116T190734Z
UID:10002452-1771790400-1771794000@kvikne.no
SUMMARY:Årsmøte Kvikne Samfunnshus
DESCRIPTION:Årsmøte i Kvikne Samfunnshus\n22. februar 2026 klokken 20.00.\nSted: Kvikne Samfunnshus\nSakliste:\n• Åpning\n• Valg av møteleder og referent\n• Godkjenning av innkalling\n• Årsmelding\n• Revidert regnskap\n• Saker fremmet av styret\n• Innkomne saker\n• Valg \nInnkomne saker må sendes til styret v/Oddveig Fossum innen 1. februar. \nFrasigelse av verv må sendes til Haakon Stai haakonstai1984@gmail.com innen 1. februar.
URL:https://kvikne.no/arrangement/arsmote-kvikne-samfunnshus-4/
LOCATION:Kvikne Samfunnshus\, Kvikneveien 4716\, Kvikne\, 2512
CATEGORIES:Årsmøte,Samfunnshus
ATTACH;FMTTYPE=image/jpeg:https://kvikne.no/wp-content/uploads/2020/11/Samfunnshuset_lite.jpg
END:VEVENT
BEGIN:VEVENT
DTSTART;TZID=Europe/Oslo:20260204T193000
DTEND;TZID=Europe/Oslo:20260204T193000
DTSTAMP:20260421T104258
CREATED:20260119T174726Z
LAST-MODIFIED:20260119T174740Z
UID:10002454-1770233400-1770233400@kvikne.no
SUMMARY:Årsmøte Kvikne Songlag
DESCRIPTION:Årsmøte i Kvikne Songlag onsdag 4/2-26 i Kvikne samfunnshus kl. 19.30. \nSaksliste:\n1. Godkjenning av innkalling\n2. Valg av møteleder\n3. Årsmelding\n4. Regnskap\n5. Valg\n6. Saker fremmet av styret\n7. Innkomne saker \nValgkomité:\nKari Beate og Svein Magne\nFrasigelser av verv sendes Kari Beate innen 25/1-26\nSaker som vil behandles sendes styret innen 25/1-26
URL:https://kvikne.no/arrangement/arsmote-kvikne-songlag-3/
LOCATION:Kvikne Samfunnshus\, Kvikneveien 4716\, Kvikne\, 2512
CATEGORIES:Årsmøte,Kvikne Songlag
ATTACH;FMTTYPE=image/jpeg:https://kvikne.no/wp-content/uploads/2020/12/11536070_406444246218146_2923543083604163550_n.jpg
END:VEVENT
BEGIN:VEVENT
DTSTART;TZID=Europe/Oslo:20260113T183000
DTEND;TZID=Europe/Oslo:20260113T183000
DTSTAMP:20260421T104258
CREATED:20251230T142307Z
LAST-MODIFIED:20251230T142319Z
UID:10002443-1768329000-1768329000@kvikne.no
SUMMARY:Årsmøte Hornmusikken
DESCRIPTION:
URL:https://kvikne.no/arrangement/arsmote-hornmusikken/
LOCATION:Kvikne Samfunnshus\, Kvikneveien 4716\, Kvikne\, 2512
CATEGORIES:Årsmøte,Kvikne Hornmusikk
ATTACH;FMTTYPE=image/jpeg:https://kvikne.no/wp-content/uploads/2020/11/khm-logo.jpg
ORGANIZER;CN="Kvikne Hornmusikk":MAILTO:kvikne-hornmusikk@g-mail.com
END:VEVENT
BEGIN:VEVENT
DTSTART;TZID=Europe/Oslo:20251229T120000
DTEND;TZID=Europe/Oslo:20251229T120000
DTSTAMP:20260421T104258
CREATED:20251211T211927Z
LAST-MODIFIED:20251211T211939Z
UID:10002416-1767009600-1767009600@kvikne.no
SUMMARY:Juletrefest
DESCRIPTION:
URL:https://kvikne.no/arrangement/juletrefest-2/
LOCATION:Kvikne Samfunnshus\, Kvikneveien 4716\, Kvikne\, 2512
ATTACH;FMTTYPE=image/jpeg:https://kvikne.no/wp-content/uploads/2025/12/juletrefest-2025.jpeg
END:VEVENT
BEGIN:VEVENT
DTSTART;TZID=Europe/Oslo:20251205T180000
DTEND;TZID=Europe/Oslo:20251205T180000
DTSTAMP:20260421T104258
CREATED:20251119T120259Z
LAST-MODIFIED:20251120T141247Z
UID:10002216-1764957600-1764957600@kvikne.no
SUMMARY:Luciakonsert med Årets julefilm
DESCRIPTION:
URL:https://kvikne.no/arrangement/lucia-konsert-med-kino/
LOCATION:Kvikne Samfunnshus\, Kvikneveien 4716\, Kvikne\, 2512
CATEGORIES:Kvikne Songlag
ATTACH;FMTTYPE=image/jpeg:https://kvikne.no/wp-content/uploads/2025/11/Luciakonsert-25.jpg
END:VEVENT
BEGIN:VEVENT
DTSTART;TZID=Europe/Oslo:20251130T130000
DTEND;TZID=Europe/Oslo:20251130T130000
DTSTAMP:20260421T104258
CREATED:20251027T162635Z
LAST-MODIFIED:20251027T162941Z
UID:10002206-1764507600-1764507600@kvikne.no
SUMMARY:Adventslunsj
DESCRIPTION:
URL:https://kvikne.no/arrangement/adventslunsj-4/
LOCATION:Kvikne Samfunnshus\, Kvikneveien 4716\, Kvikne\, 2512
CATEGORIES:Skolemusikk
ATTACH;FMTTYPE=image/jpeg:https://kvikne.no/wp-content/uploads/2025/10/Adventslunsj-2025-bruk-denne-scaled.jpg
END:VEVENT
BEGIN:VEVENT
DTSTART;TZID=Europe/Oslo:20251026T120000
DTEND;TZID=Europe/Oslo:20251026T120000
DTSTAMP:20260421T104258
CREATED:20250904T152951Z
LAST-MODIFIED:20251023T094744Z
UID:10002141-1761480000-1761480000@kvikne.no
SUMMARY:Basar
DESCRIPTION:
URL:https://kvikne.no/arrangement/basar-2/
LOCATION:Kvikne Samfunnshus\, Kvikneveien 4716\, Kvikne\, 2512
CATEGORIES:Samfunnshus
ATTACH;FMTTYPE=image/jpeg:https://kvikne.no/wp-content/uploads/2020/11/SamfunnshusetDSCF6883-e1607347683311.jpg
END:VEVENT
BEGIN:VEVENT
DTSTART;TZID=Europe/Oslo:20251002T190000
DTEND;TZID=Europe/Oslo:20251002T190000
DTSTAMP:20260421T104258
CREATED:20250908T152707Z
LAST-MODIFIED:20250908T153318Z
UID:10002142-1759431600-1759431600@kvikne.no
SUMMARY:Hyggekveld
DESCRIPTION:PENSJONISTFORBUNDET\nKVIKNE\n\nInviterer til HYGGEKVELD!\nTid: Torsdag 02/10 KI. 19.00\nSted: Kvikne Samfunnshus\nVi byr på interessant innlegg fra redningsmann på\n330-skvadron\, Arnfinn Storli\n🚁\nKaffe og kaker\n☕🍰\nMusikalsk underholdning av Brage Stølan fra Berkåk\n🎼\nVil spesielt invitere dere over 60år\, for å snakke litt om\nhva vi som lokallag jobber med og for.\nGratis inngang\nVelkommen\nHilsen Styret
URL:https://kvikne.no/arrangement/hyggekveld/
LOCATION:Kvikne Samfunnshus\, Kvikneveien 4716\, Kvikne\, 2512
CATEGORIES:Pensjonistforbundet Kvikne
ATTACH;FMTTYPE=image/png:https://kvikne.no/wp-content/uploads/2021/02/ccce38d7cfa6b06d0c9c310780923761_400x400-e1742892699808.png
END:VEVENT
BEGIN:VEVENT
DTSTART;TZID=Europe/Oslo:20250707T180000
DTEND;TZID=Europe/Oslo:20250707T180000
DTSTAMP:20260421T104258
CREATED:20250305T095424Z
LAST-MODIFIED:20250608T054551Z
UID:10002034-1751911200-1751911200@kvikne.no
SUMMARY:Mikael Bratbosts talentpris
DESCRIPTION:Bestill billetter på nettsiden til ringsakeroperaen.\nFølg også med på facebook.\nLes også: Hannah Edmunds tildeles Operasanger Mikael Bratbosts talentpris for 2025
URL:https://kvikne.no/arrangement/mikael-bratbosts-talentpris/
LOCATION:Kvikne Samfunnshus\, Kvikneveien 4716\, Kvikne\, 2512
CATEGORIES:Kultur
ATTACH;FMTTYPE=image/jpeg:https://kvikne.no/wp-content/uploads/2025/03/M-Bratbost-gra.jpg
END:VEVENT
BEGIN:VEVENT
DTSTART;TZID=Europe/Oslo:20250616T183000
DTEND;TZID=Europe/Oslo:20250616T203000
DTSTAMP:20260421T104258
CREATED:20250608T085014Z
LAST-MODIFIED:20250608T085014Z
UID:10002119-1750098600-1750105800@kvikne.no
SUMMARY:Sommeravslutning
DESCRIPTION:
URL:https://kvikne.no/arrangement/sommeravslutning-2/
LOCATION:Kvikne Samfunnshus\, Kvikneveien 4716\, Kvikne\, 2512
CATEGORIES:Kvikne Hornmusikk,Kvikne Songlag,Skolemusikk
ATTACH;FMTTYPE=image/jpeg:https://kvikne.no/wp-content/uploads/2025/06/Sommeravslutning-2025-scaled.jpg
END:VEVENT
BEGIN:VEVENT
DTSTART;TZID=Europe/Oslo:20250514T170000
DTEND;TZID=Europe/Oslo:20250514T203000
DTSTAMP:20260421T104258
CREATED:20250311T124252Z
LAST-MODIFIED:20250426T192238Z
UID:10002038-1747242000-1747254600@kvikne.no
SUMMARY:Vårdugnad Samfunnshuset
DESCRIPTION:Kvikne Samfunnshus har den årlige vårdugnaden 14. mai klokken 17.00\, eller kom når du kan… \nTa gjerne med rive. \nKaffe og kake. \nVelkommen!
URL:https://kvikne.no/arrangement/var-dugnad-samfunnshuset/
LOCATION:Kvikne Samfunnshus\, Kvikneveien 4716\, Kvikne\, 2512
CATEGORIES:Dugnad,Samfunnshus,Vårrydding
ATTACH;FMTTYPE=image/jpeg:https://kvikne.no/wp-content/uploads/2021/05/Dugnader_1346.jpg
END:VEVENT
BEGIN:VEVENT
DTSTART;TZID=Europe/Oslo:20250422T194500
DTEND;TZID=Europe/Oslo:20250422T194500
DTSTAMP:20260421T104258
CREATED:20250412T082602Z
LAST-MODIFIED:20250412T082613Z
UID:10002081-1745351100-1745351100@kvikne.no
SUMMARY:Generalprøve
DESCRIPTION:Velkommen til Kvikne hornmusikks generalprøve før Oslo brassfestival!Tirsdag 22.april kl.19.45 i Kvikne samfunnshus kan du oppleve vår kirkekonsert (10 min) og vår festkonsert (15 min)\, – selvfølgelig med kostymer og full pakke Gratis inngang!Håper vi sees\, og god påske
URL:https://kvikne.no/arrangement/generalprove/
LOCATION:Kvikne Samfunnshus\, Kvikneveien 4716\, Kvikne\, 2512
CATEGORIES:Kvikne Hornmusikk
ATTACH;FMTTYPE=image/jpeg:https://kvikne.no/wp-content/uploads/2025/04/Hornmusikken-opptrer.jpg
ORGANIZER;CN="Kvikne Hornmusikk":MAILTO:kvikne-hornmusikk@g-mail.com
END:VEVENT
BEGIN:VEVENT
DTSTART;TZID=Europe/Oslo:20250417T190000
DTEND;TZID=Europe/Oslo:20250417T190000
DTSTAMP:20260421T104258
CREATED:20250323T203300Z
LAST-MODIFIED:20250326T091952Z
UID:10002043-1744916400-1744916400@kvikne.no
SUMMARY:Skjærtorsdags-QUIZ
DESCRIPTION:
URL:https://kvikne.no/arrangement/skjaertorsdags-quiz/
LOCATION:Kvikne Samfunnshus\, Kvikneveien 4716\, Kvikne\, 2512
CATEGORIES:Samfunnshus
ATTACH;FMTTYPE=image/jpeg:https://kvikne.no/wp-content/uploads/2025/03/paskequiz-2-25.jpg
END:VEVENT
BEGIN:VEVENT
DTSTART;TZID=Europe/Oslo:20250413T180000
DTEND;TZID=Europe/Oslo:20250413T180000
DTSTAMP:20260421T104258
CREATED:20250129T153622Z
LAST-MODIFIED:20250404T094001Z
UID:10001480-1744567200-1744567200@kvikne.no
SUMMARY:Grand prix
DESCRIPTION:I år som årene før inviterer Kvikne skolemusikk til et forrykende show på palmesøndag.Årets tema er Grand prix \nHer vil vi få besøk av norske og internasjonale stjerner. Lokale og langveisfarende. Gled dere.\nMer info kommer etterhvert.\n\nBillettsalget starter onsdag 22. Januar! \nGå inn via Vipps #611953 og legg inn riktig antall billetter; voksen/barn.\nDet er også i år plassbilletter etter når man har kjøpt bill.\n 
URL:https://kvikne.no/arrangement/grand-prix/
LOCATION:Kvikne Samfunnshus\, Kvikneveien 4716\, Kvikne\, 2512
CATEGORIES:Kultur,Skolemusikk
ATTACH;FMTTYPE=image/jpeg:https://kvikne.no/wp-content/uploads/2025/01/472158663_10171187453115284_8551974843648192389_n.jpg
END:VEVENT
BEGIN:VEVENT
DTSTART;TZID=Europe/Oslo:20250322T170000
DTEND;TZID=Europe/Oslo:20250322T170000
DTSTAMP:20260421T104258
CREATED:20250307T212257Z
LAST-MODIFIED:20250307T212308Z
UID:10002037-1742662800-1742662800@kvikne.no
SUMMARY:Korpstreff-konsert
DESCRIPTION:
URL:https://kvikne.no/arrangement/korpstreff-konsert-2/
LOCATION:Kvikne Samfunnshus\, Kvikneveien 4716\, Kvikne\, 2512
CATEGORIES:Kultur,Kvikne Hornmusikk
ATTACH;FMTTYPE=image/jpeg:https://kvikne.no/wp-content/uploads/2025/03/480208753_10162438837452209_4264136966794623083_n-scaled.jpg
ORGANIZER;CN="Kvikne Hornmusikk":MAILTO:kvikne-hornmusikk@g-mail.com
END:VEVENT
BEGIN:VEVENT
DTSTART;TZID=Europe/Oslo:20250315T190000
DTEND;TZID=Europe/Oslo:20250316T235900
DTSTAMP:20260421T104258
CREATED:20250117T092642Z
LAST-MODIFIED:20250315T072740Z
UID:10001473-1742065200-1742169540@kvikne.no
SUMMARY:Køntri musikal
DESCRIPTION:
URL:https://kvikne.no/arrangement/kontri-musikal/
LOCATION:Kvikne Samfunnshus\, Kvikneveien 4716\, Kvikne\, 2512
CATEGORIES:Kultur,Kvikne Songlag
ATTACH;FMTTYPE=image/jpeg:https://kvikne.no/wp-content/uploads/2025/01/plakat-kontri-musikal-scaled.jpg
END:VEVENT
BEGIN:VEVENT
DTSTART;TZID=Europe/Oslo:20250217T160000
DTEND;TZID=Europe/Oslo:20250217T160000
DTSTAMP:20260421T104258
CREATED:20250120T101844Z
LAST-MODIFIED:20250120T101854Z
UID:10001474-1739808000-1739808000@kvikne.no
SUMMARY:Årsmøte Pensjonist forbundet
DESCRIPTION:ÅRSMØTE \nPENSJONISTFORBUNDET KVIKNE \nSTED: Kvikne Samfunnshus \nTID: Mandag 17/2-2025 Kl 16.00 \n  \nSAKLISTE  \n\nGodkjenning av innkalling og sakliste \nValg av møteleder og referent\nValg av to medlemmer til å \n\nunderskrive protokollen \n\nÅrsmelding\nRegnskap\nBudsjett for 2025\nInnkomne forslag\nValg\n\nFrasigelse av verv til valgkomiteens leder Ninni Grue innen 10/2 \nForslag til saker som ønskes behandlet på årsmøtet må være styrets leder i hende innen 10/2 \nKaffe og kaker etter møtet \nUnderholdning av Stein Nygård og Johan Sundberg \n  \nStyret
URL:https://kvikne.no/arrangement/arsmote-pensjonist-forbundet-3/
LOCATION:Kvikne Samfunnshus\, Kvikneveien 4716\, Kvikne\, 2512
CATEGORIES:Årsmøte,Pensjonistforbundet Kvikne
ATTACH;FMTTYPE=image/png:https://kvikne.no/wp-content/uploads/2021/02/ccce38d7cfa6b06d0c9c310780923761_400x400-e1742892699808.png
END:VEVENT
BEGIN:VEVENT
DTSTART;TZID=Europe/Oslo:20250215T183000
DTEND;TZID=Europe/Oslo:20250215T203000
DTSTAMP:20260421T104258
CREATED:20250204T165521Z
LAST-MODIFIED:20250204T165521Z
UID:10001482-1739644200-1739651400@kvikne.no
SUMMARY:Vinterkonsert
DESCRIPTION:
URL:https://kvikne.no/arrangement/vinterkonsert/
LOCATION:Kvikne Samfunnshus\, Kvikneveien 4716\, Kvikne\, 2512
CATEGORIES:Kvikne Hornmusikk
ATTACH;FMTTYPE=image/jpeg:https://kvikne.no/wp-content/uploads/2025/02/vinterkonsert-25.jpg
ORGANIZER;CN="Kvikne Hornmusikk":MAILTO:kvikne-hornmusikk@g-mail.com
END:VEVENT
BEGIN:VEVENT
DTSTART;TZID=Europe/Oslo:20250209T193000
DTEND;TZID=Europe/Oslo:20250209T193000
DTSTAMP:20260421T104258
CREATED:20250109T203739Z
LAST-MODIFIED:20250109T204118Z
UID:10001471-1739129400-1739129400@kvikne.no
SUMMARY:Årsmøte Kvikne Samfunnshus
DESCRIPTION:Årsmøte Kvikne Samfunnshus\n \nSøndag 9. februar kl. 19.30 i Samfunnshuset. \nSakliste:\n Åpning\nValg av referent og møteleder\nGodkjenning av innkalling\nÅrsmelding\nRevidert regnskap\nSaker fremmet av styret\nInnkomne saker\nValg \nInnkomne saker sendes Oddveig Fossum\, tlf. 911 45 578\, innen 1. februar. \nFrasigelse av verv sendes til Mona Sæbø\, tlf. 474 14 858\, innen 26. januar \n  \nVelkommen \nStyret \n 
URL:https://kvikne.no/arrangement/arsmote-kvikne-samfunnshus-3/
LOCATION:Kvikne Samfunnshus\, Kvikneveien 4716\, Kvikne\, 2512
CATEGORIES:Årsmøte,Samfunnshus
ATTACH;FMTTYPE=image/jpeg:https://kvikne.no/wp-content/uploads/2020/11/Samfunnshuset_lite.jpg
END:VEVENT
BEGIN:VEVENT
DTSTART;TZID=Europe/Oslo:20250126T120000
DTEND;TZID=Europe/Oslo:20250126T150000
DTSTAMP:20260421T104258
CREATED:20241228T090612Z
LAST-MODIFIED:20250108T163936Z
UID:10001057-1737892800-1737903600@kvikne.no
SUMMARY:Basar
DESCRIPTION:
URL:https://kvikne.no/arrangement/basar/
LOCATION:Kvikne Samfunnshus\, Kvikneveien 4716\, Kvikne\, 2512
CATEGORIES:Kultur,Samfunnshus
ATTACH;FMTTYPE=image/jpeg:https://kvikne.no/wp-content/uploads/2024/12/Basar-2025-scaled.jpg
END:VEVENT
BEGIN:VEVENT
DTSTART;TZID=Europe/Oslo:20241229T120000
DTEND;TZID=Europe/Oslo:20241229T150000
DTSTAMP:20260421T104258
CREATED:20241211T105350Z
LAST-MODIFIED:20241211T105350Z
UID:10001052-1735473600-1735484400@kvikne.no
SUMMARY:Juletrefest
DESCRIPTION:
URL:https://kvikne.no/arrangement/juletrefest/
LOCATION:Kvikne Samfunnshus\, Kvikneveien 4716\, Kvikne\, 2512
CATEGORIES:Kultur
ATTACH;FMTTYPE=image/jpeg:https://kvikne.no/wp-content/uploads/2024/12/Juletrefest-2024.jpg
END:VEVENT
BEGIN:VEVENT
DTSTART;TZID=Europe/Oslo:20241213T180000
DTEND;TZID=Europe/Oslo:20241213T180000
DTSTAMP:20260421T104258
CREATED:20241128T065836Z
LAST-MODIFIED:20241128T083517Z
UID:10001042-1734112800-1734112800@kvikne.no
SUMMARY:Luciakonsert og kino
DESCRIPTION:
URL:https://kvikne.no/arrangement/luciakonsert/
LOCATION:Kvikne Samfunnshus\, Kvikneveien 4716\, Kvikne\, 2512
CATEGORIES:Kultur,Kvikne Songlag
END:VEVENT
BEGIN:VEVENT
DTSTART;TZID=Europe/Oslo:20241210T190000
DTEND;TZID=Europe/Oslo:20241210T190000
DTSTAMP:20260421T104258
CREATED:20241129T201152Z
LAST-MODIFIED:20241129T201200Z
UID:10001044-1733857200-1733857200@kvikne.no
SUMMARY:Grøtkonsert
DESCRIPTION:Velkommen til grøtkonsert tirsdag 10.desember i Kvikne samfunnshus! \n\nTa med storfamilien til grøtkveldsmat og lytt til koselig julebrassmusikk.\nGratis inngang!\n\nDørene åpner kl. 19.00. Hornmusikken spiller julebrassmusikk kl. 19.30. Det blir to økter med spilling\, på omtrent 20 minutter hver. I pausen selges grøt med spekemat og flatbrød. Vi selger også årer\, så her har du mulighet til å delta i spennende lotteri og vinne mange gevinster.\n\nVelkommen til ei trivelig førjulsstund\, alle sammen! \n\nArrangør: Kvikne hornmusikk
URL:https://kvikne.no/arrangement/grotkonsert/
LOCATION:Kvikne Samfunnshus\, Kvikneveien 4716\, Kvikne\, 2512
CATEGORIES:Kultur,Kvikne Hornmusikk
ORGANIZER;CN="Kvikne Hornmusikk":MAILTO:kvikne-hornmusikk@g-mail.com
END:VEVENT
BEGIN:VEVENT
DTSTART;TZID=Europe/Oslo:20241201T130000
DTEND;TZID=Europe/Oslo:20241201T130000
DTSTAMP:20260421T104258
CREATED:20241129T062608Z
LAST-MODIFIED:20241129T062714Z
UID:10001043-1733058000-1733058000@kvikne.no
SUMMARY:Adventslunsj
DESCRIPTION:
URL:https://kvikne.no/arrangement/adventslunsj-3/
LOCATION:Kvikne Samfunnshus\, Kvikneveien 4716\, Kvikne\, 2512
CATEGORIES:Kultur,Skolemusikk
END:VEVENT
BEGIN:VEVENT
DTSTART;TZID=Europe/Oslo:20240618T180000
DTEND;TZID=Europe/Oslo:20240618T180000
DTSTAMP:20260421T104258
CREATED:20240605T195735Z
LAST-MODIFIED:20240605T195743Z
UID:10000944-1718733600-1718733600@kvikne.no
SUMMARY:Sommeravslutning
DESCRIPTION:
URL:https://kvikne.no/arrangement/sommeravslutning/
LOCATION:Kvikne Samfunnshus\, Kvikneveien 4716\, Kvikne\, 2512
CATEGORIES:Kultur,Kvikne Songlag,Samfunnshus
END:VEVENT
BEGIN:VEVENT
DTSTART;TZID=Europe/Oslo:20240513T180000
DTEND;TZID=Europe/Oslo:20240513T180000
DTSTAMP:20260421T104258
CREATED:20240503T160646Z
LAST-MODIFIED:20240503T160654Z
UID:10000936-1715623200-1715623200@kvikne.no
SUMMARY:Vårrydding Samfunnshuset
DESCRIPTION:
URL:https://kvikne.no/arrangement/varrydding-samfunnshuset/
LOCATION:Kvikne Samfunnshus\, Kvikneveien 4716\, Kvikne\, 2512
CATEGORIES:Dugnad,Samfunnshus,Vårrydding
ATTACH;FMTTYPE=image/jpeg:https://kvikne.no/wp-content/uploads/2020/11/Dugnader_1346.jpg
END:VEVENT
END:VCALENDAR