BEGIN:VCALENDAR
VERSION:2.0
PRODID:-//Kvikne.no - ECPv6.15.20//NONSGML v1.0//EN
CALSCALE:GREGORIAN
METHOD:PUBLISH
X-ORIGINAL-URL:https://kvikne.no
X-WR-CALDESC:Arrangement for Kvikne.no
REFRESH-INTERVAL;VALUE=DURATION:PT1H
X-Robots-Tag:noindex
X-PUBLISHED-TTL:PT1H
BEGIN:VTIMEZONE
TZID:Europe/Oslo
BEGIN:DAYLIGHT
TZOFFSETFROM:+0100
TZOFFSETTO:+0200
TZNAME:CEST
DTSTART:20200329T010000
END:DAYLIGHT
BEGIN:STANDARD
TZOFFSETFROM:+0200
TZOFFSETTO:+0100
TZNAME:CET
DTSTART:20201025T010000
END:STANDARD
BEGIN:DAYLIGHT
TZOFFSETFROM:+0100
TZOFFSETTO:+0200
TZNAME:CEST
DTSTART:20210328T010000
END:DAYLIGHT
BEGIN:STANDARD
TZOFFSETFROM:+0200
TZOFFSETTO:+0100
TZNAME:CET
DTSTART:20211031T010000
END:STANDARD
BEGIN:DAYLIGHT
TZOFFSETFROM:+0100
TZOFFSETTO:+0200
TZNAME:CEST
DTSTART:20220327T010000
END:DAYLIGHT
BEGIN:STANDARD
TZOFFSETFROM:+0200
TZOFFSETTO:+0100
TZNAME:CET
DTSTART:20221030T010000
END:STANDARD
END:VTIMEZONE
BEGIN:VEVENT
DTSTART;VALUE=DATE:20211105
DTEND;VALUE=DATE:20211109
DTSTAMP:20260424T130922
CREATED:20201104T151230Z
LAST-MODIFIED:20211103T105316Z
UID:10000026-1636084800-1636343999@kvikne.no
SUMMARY:Mini landbruksmesse
DESCRIPTION:Findmy arrangerer Mini landbruksmesse 5.-7.november.  \nSe programmet for helga her. \n 
URL:https://kvikne.no/arrangement/mini-landbruksmesse/
LOCATION:Kvikne Fjellhotell\, Haugan 10\, Kvikne\, 2512\, Norge
CATEGORIES:Findmy,Landbruk,Næringsliv
ATTACH;FMTTYPE=image/jpeg:https://kvikne.no/wp-content/uploads/2020/11/489c2428-4830-4195-a3f4-7b999f9872ed.jpg
END:VEVENT
END:VCALENDAR